BEGIN:VCALENDAR
VERSION:2.0
PRODID:-//Carbon Connector - ECPv6.15.20//NONSGML v1.0//EN
CALSCALE:GREGORIAN
METHOD:PUBLISH
X-ORIGINAL-URL:https://carbonconnector.com
X-WR-CALDESC:Events for Carbon Connector
REFRESH-INTERVAL;VALUE=DURATION:PT1H
X-Robots-Tag:noindex
X-PUBLISHED-TTL:PT1H
BEGIN:VTIMEZONE
TZID:America/New_York
BEGIN:DAYLIGHT
TZOFFSETFROM:-0500
TZOFFSETTO:-0400
TZNAME:EDT
DTSTART:20240310T070000
END:DAYLIGHT
BEGIN:STANDARD
TZOFFSETFROM:-0400
TZOFFSETTO:-0500
TZNAME:EST
DTSTART:20241103T060000
END:STANDARD
BEGIN:DAYLIGHT
TZOFFSETFROM:-0500
TZOFFSETTO:-0400
TZNAME:EDT
DTSTART:20250309T070000
END:DAYLIGHT
BEGIN:STANDARD
TZOFFSETFROM:-0400
TZOFFSETTO:-0500
TZNAME:EST
DTSTART:20251102T060000
END:STANDARD
BEGIN:DAYLIGHT
TZOFFSETFROM:-0500
TZOFFSETTO:-0400
TZNAME:EDT
DTSTART:20260308T070000
END:DAYLIGHT
BEGIN:STANDARD
TZOFFSETFROM:-0400
TZOFFSETTO:-0500
TZNAME:EST
DTSTART:20261101T060000
END:STANDARD
END:VTIMEZONE
BEGIN:VEVENT
DTSTART;TZID=America/New_York:20250723T130000
DTEND;TZID=America/New_York:20250723T140000
DTSTAMP:20260425T164806
CREATED:20250709T225827Z
LAST-MODIFIED:20250905T194540Z
UID:3935-1753275600-1753279200@carbonconnector.com
SUMMARY:Free Webinar: The Real Cost of a Refrigerant Leak Budget
DESCRIPTION:« All Events\n 				\n				\n				\n				\n					This event has passed. \n				\n				\n				\n				\n					\n	Free Webinar: The Real Cost of a Refrigerant Leak Budget				\n				\n				\n						\n					\n			\n						\n				\n					\n	\n				\n				\n					\n		\n				\n			\n						\n				\n									Budgeting in the Era of AIM Act & EPA RegulationsRefrigerant leaks have gone from routine maintenance issues to full-blown financial threats.  With September’s budget approvals on the horizon\, even a small\, unnoticed leak can force costly equipment replacements\, rack up EPA fines\, and derail your financial plan in ways last year’s spreadsheet could not predict. In this free webinar\, we’ll reveal why classic HVAC/R budgeting approaches fall short under today’s rules and unpack how the AIM Act phasedown and new EPA leak thresholds amplify hidden expenses. Industry experts will share actionable tactics you can take today to protect your investments. 								\n				\n				\n				\n					   \n      \n         \n         \n           \n         \n                  \n                     \n               		  \n			 Sign Up
URL:https://carbonconnector.com/webinar/real-cost-refrigerant-leak-budget/
LOCATION:Online
ATTACH;FMTTYPE=image/png:https://carbonconnector.com/wp-content/uploads/2025/07/webinar-July.png
END:VEVENT
BEGIN:VEVENT
DTSTART;TZID=America/New_York:20250618T130000
DTEND;TZID=America/New_York:20250618T140000
DTSTAMP:20260425T164806
CREATED:20250624T214733Z
LAST-MODIFIED:20250905T174237Z
UID:3679-1750251600-1750255200@carbonconnector.com
SUMMARY:Free Webinar - How to Reverse 5 Trust Gaps in HVAC/R Leak Detection
DESCRIPTION:« All Events\n 				\n				\n				\n				\n					This event has passed. \n				\n				\n				\n				\n					\n	Free Webinar: The Real Cost of a Refrigerant Leak Budget				\n				\n				\n						\n					\n			\n						\n				\n					\n	\n				\n				\n					\n		\n				\n			\n						\n				\n									Budgeting in the Era of AIM Act & EPA RegulationsRefrigerant leaks have gone from routine maintenance issues to full-blown financial threats.  With September’s budget approvals on the horizon\, even a small\, unnoticed leak can force costly equipment replacements\, rack up EPA fines\, and derail your financial plan in ways last year’s spreadsheet could not predict. In this free webinar\, we’ll reveal why classic HVAC/R budgeting approaches fall short under today’s rules and unpack how the AIM Act phasedown and new EPA leak thresholds amplify hidden expenses. Industry experts will share actionable tactics you can take today to protect your investments. 								\n				\n				\n				\n					   \n      \n         \n         \n           \n         \n                  \n                     \n               		  \n			 Sign Up
URL:https://carbonconnector.com/webinar/5-trust-gaps-in-hvac-r-leak-detection/
LOCATION:Online
ATTACH;FMTTYPE=image/webp:https://carbonconnector.com/wp-content/uploads/2025/06/Webinar-How-to-reverse-5-trust-gaps-in-HVACR-Leak-Detection-to-empower-teams-and-improve-performance-Carbon-Connector.webp
END:VEVENT
END:VCALENDAR